BEGIN:VCALENDAR
PRODID:-//eluceo/ical//2.0/EN
VERSION:2.0
CALSCALE:GREGORIAN
BEGIN:VEVENT
UID:hey.bayern.694965.6557152
DTSTAMP:20260423T012314Z
SUMMARY:from little - Nikolaus Lapuch - Stadtgalerie
DTSTART;TZID=Europe/Berlin:20260510T150000
DTEND;TZID=Europe/Berlin:20260510T180000
LOCATION:Hauptplatz 22\, 8530 Deutschlandsberg\, Österreich
GEO:46.814790;15.213173
X-APPLE-STRUCTURED-LOCATION;VALUE=URI;X-ADDRESS=Hauptplatz 22\, 8530 Deutsc
 hlandsberg\, Österreich;X-APPLE-RADIUS=49;X-TITLE=:geo:46.814790,15.21317
 3
URL;VALUE=URI:https://hey-deutschland.de/events/694965
END:VEVENT
END:VCALENDAR
