BEGIN:VCALENDAR
PRODID:-//eluceo/ical//2.0/EN
VERSION:2.0
CALSCALE:GREGORIAN
BEGIN:VEVENT
UID:hey.bayern.694879.6556565
DTSTAMP:20260422T235228Z
SUMMARY:Hochsensible Erwachsene: Wenn Wahrnehmung zur Stärke wird - bewuss
 t empfindsam leben
DTSTART;TZID=Europe/Berlin:20260505T183000
DTEND;TZID=Europe/Berlin:20260505T213000
LOCATION:Riedholzstraße 15a\, 4910 Ried im Innkreis\, Österreich
GEO:48.213845;13.470928
X-APPLE-STRUCTURED-LOCATION;VALUE=URI;X-ADDRESS=Riedholzstraße 15a\, 4910 
 Ried im Innkreis\, Österreich;X-APPLE-RADIUS=49;X-TITLE=:geo:48.213845,13
 .470928
URL;VALUE=URI:https://hey-deutschland.de/events/694879
END:VEVENT
END:VCALENDAR
