BEGIN:VCALENDAR
PRODID:-//eluceo/ical//2.0/EN
VERSION:2.0
CALSCALE:GREGORIAN
BEGIN:VEVENT
UID:hey.bayern.694844.6556265
DTSTAMP:20260423T011049Z
SUMMARY:Eröffnungsfeier "Schwemmkanalweg"
DTSTART;TZID=Europe/Berlin:20260502T130000
DTEND;TZID=Europe/Berlin:20260502T180000
LOCATION:Dreisesselbergstraße 18/1\, 4160 Aigen-Schlägl\, Österreich
GEO:48.668506;14.015175
X-APPLE-STRUCTURED-LOCATION;VALUE=URI;X-ADDRESS=Dreisesselbergstraße 18/1\
 , 4160 Aigen-Schlägl\, Österreich;X-APPLE-RADIUS=49;X-TITLE=:geo:48.6685
 06,14.015175
URL;VALUE=URI:https://hey-deutschland.de/events/694844
END:VEVENT
END:VCALENDAR
