BEGIN:VCALENDAR
PRODID:-//eluceo/ical//2.0/EN
VERSION:2.0
CALSCALE:GREGORIAN
BEGIN:VEVENT
UID:hey.bayern.694775.6555822
DTSTAMP:20260422T000528Z
SUMMARY:Umzug der Kameradschaft Bad Hofgastein
DTSTART;TZID=Europe/Berlin:20260516T123000
DTEND;TZID=Europe/Berlin:20260516T133000
LOCATION:5630 Bad Hofgastein\, Österreich
URL;VALUE=URI:https://hey-deutschland.de/events/694775
END:VEVENT
END:VCALENDAR
