BEGIN:VCALENDAR
PRODID:-//eluceo/ical//2.0/EN
VERSION:2.0
CALSCALE:GREGORIAN
BEGIN:VEVENT
UID:hey.bayern.694771.6555818
DTSTAMP:20260422T225131Z
SUMMARY:Tanz der Emotionen
DTSTART;TZID=Europe/Berlin:20260507T180000
DTEND;TZID=Europe/Berlin:20260507T190000
LOCATION:Greinburgstraße 26\, 4360 Grein\, Österreich
GEO:48.227178;14.855195
X-APPLE-STRUCTURED-LOCATION;VALUE=URI;X-ADDRESS=Greinburgstraße 26\, 4360 
 Grein\, Österreich;X-APPLE-RADIUS=49;X-TITLE=:geo:48.227178,14.855195
URL;VALUE=URI:https://hey-deutschland.de/events/694771
END:VEVENT
END:VCALENDAR
