BEGIN:VCALENDAR
PRODID:-//eluceo/ical//2.0/EN
VERSION:2.0
CALSCALE:GREGORIAN
BEGIN:VEVENT
UID:hey.bayern.694768.6555812
DTSTAMP:20260422T223239Z
SUMMARY:St. Florianer Brucknertage: Orgelroas
DTSTART;TZID=Europe/Berlin:20260820T100000
DTEND;TZID=Europe/Berlin:20260820T150000
LOCATION:Speiserberg 9\, 4490 St. Florian\, Österreich
GEO:48.205970;14.377460
X-APPLE-STRUCTURED-LOCATION;VALUE=URI;X-ADDRESS=Speiserberg 9\, 4490 St. Fl
 orian\, Österreich;X-APPLE-RADIUS=49;X-TITLE=:geo:48.205970,14.377460
URL;VALUE=URI:https://hey-deutschland.de/events/694768
END:VEVENT
END:VCALENDAR
