BEGIN:VCALENDAR
PRODID:-//eluceo/ical//2.0/EN
VERSION:2.0
CALSCALE:GREGORIAN
BEGIN:VEVENT
UID:hey.bayern.694766.6555810
DTSTAMP:20260422T223238Z
SUMMARY:Soulflow Weekend
DTSTART;TZID=Europe/Berlin:20260806T000000
DTEND;TZID=Europe/Berlin:20260810T000000
LOCATION:Smart Home 1\, 4154 Kollerschlag\, Österreich
GEO:48.602235;13.837734
X-APPLE-STRUCTURED-LOCATION;VALUE=URI;X-ADDRESS=Smart Home 1\, 4154 Kollers
 chlag\, Österreich;X-APPLE-RADIUS=49;X-TITLE=:geo:48.602235,13.837734
URL;VALUE=URI:https://hey-deutschland.de/events/694766
END:VEVENT
END:VCALENDAR
