BEGIN:VCALENDAR
PRODID:-//eluceo/ical//2.0/EN
VERSION:2.0
CALSCALE:GREGORIAN
BEGIN:VEVENT
UID:hey.bayern.694758.6555740
DTSTAMP:20260422T225049Z
SUMMARY:Rosentaler Kulinarium
DTSTART;TZID=Europe/Berlin:20260701T180000
DTEND;TZID=Europe/Berlin:20260701T235959
LOCATION:Schichenauerstraße 6\, 8083 St. Stefan im Rosental\, Österreich
GEO:46.905969;15.714968
X-APPLE-STRUCTURED-LOCATION;VALUE=URI;X-ADDRESS=Schichenauerstraße 6\, 808
 3 St. Stefan im Rosental\, Österreich;X-APPLE-RADIUS=49;X-TITLE=:geo:46.9
 05969,15.714968
URL;VALUE=URI:https://hey-deutschland.de/events/694758
END:VEVENT
END:VCALENDAR
