BEGIN:VCALENDAR
PRODID:-//eluceo/ical//2.0/EN
VERSION:2.0
CALSCALE:GREGORIAN
BEGIN:VEVENT
UID:hey.bayern.694747.6554705
DTSTAMP:20260423T012333Z
SUMMARY:POPUP STREETFOOD
DTSTART;TZID=Europe/Berlin:20260517T103000
DTEND;TZID=Europe/Berlin:20260517T235900
LOCATION:Marktplatz/Pfarrplatz\, 4331 Naarn im Machlande\, Österreich
GEO:48.224409;14.606801
X-APPLE-STRUCTURED-LOCATION;VALUE=URI;X-ADDRESS=Marktplatz/Pfarrplatz\, 433
 1 Naarn im Machlande\, Österreich;X-APPLE-RADIUS=49;X-TITLE=:geo:48.22440
 9,14.606801
URL;VALUE=URI:https://hey-deutschland.de/events/694747
END:VEVENT
END:VCALENDAR
