BEGIN:VCALENDAR
PRODID:-//eluceo/ical//2.0/EN
VERSION:2.0
CALSCALE:GREGORIAN
BEGIN:VEVENT
UID:hey.bayern.694738.6554684
DTSTAMP:20260422T225049Z
SUMMARY:Maibaumfest
DTSTART;TZID=Europe/Berlin:20260509T110000
DTEND;TZID=Europe/Berlin:20260509T235959
LOCATION:4982 Obernberg am Inn\, Österreich
GEO:48.321139;13.334053
X-APPLE-STRUCTURED-LOCATION;VALUE=URI;X-ADDRESS=4982 Obernberg am Inn\, Ös
 terreich;X-APPLE-RADIUS=49;X-TITLE=:geo:48.321139,13.334053
URL;VALUE=URI:https://hey-deutschland.de/events/694738
END:VEVENT
END:VCALENDAR
