BEGIN:VCALENDAR
PRODID:-//eluceo/ical//2.0/EN
VERSION:2.0
CALSCALE:GREGORIAN
BEGIN:VEVENT
UID:hey.bayern.694704.6554577
DTSTAMP:20260422T012059Z
SUMMARY:Kino - Vier minus drei
DTSTART;TZID=Europe/Berlin:20260506T193000
DTEND;TZID=Europe/Berlin:20260506T235959
LOCATION:Thomatal 1\, 5592 Thomatal\, Österreich
GEO:47.071955;13.748181
X-APPLE-STRUCTURED-LOCATION;VALUE=URI;X-ADDRESS=Thomatal 1\, 5592 Thomatal\
 , Österreich;X-APPLE-RADIUS=49;X-TITLE=:geo:47.071955,13.748181
URL;VALUE=URI:https://hey-deutschland.de/events/694704
END:VEVENT
END:VCALENDAR
