BEGIN:VCALENDAR
PRODID:-//eluceo/ical//2.0/EN
VERSION:2.0
CALSCALE:GREGORIAN
BEGIN:VEVENT
UID:hey.bayern.694689.6554495
DTSTAMP:20260422T025652Z
SUMMARY:Henndorfer MAIBAUM AUFSTELLEN
DTSTART;TZID=Europe/Berlin:20260426T100000
DTEND;TZID=Europe/Berlin:20260426T235959
LOCATION:Enzing 1\, 5302 Henndorf am Wallersee\, Österreich
URL;VALUE=URI:https://hey-deutschland.de/events/694689
END:VEVENT
END:VCALENDAR
