BEGIN:VCALENDAR
PRODID:-//eluceo/ical//2.0/EN
VERSION:2.0
CALSCALE:GREGORIAN
BEGIN:VEVENT
UID:hey.bayern.694680.6554430
DTSTAMP:20260423T011050Z
SUMMARY:Georgi-Festvortrag "Silber\, Speik und Säumerei"
DTSTART;TZID=Europe/Berlin:20260424T190000
DTEND;TZID=Europe/Berlin:20260424T235959
LOCATION:St. Georgen ob Judenburg 25\, 8756 St. Georgen ob Judenbur
 g\, Österreich
GEO:47.206547;14.499664
X-APPLE-STRUCTURED-LOCATION;VALUE=URI;X-ADDRESS=St. Georgen ob Judenb
 urg 25\, 8756 St. Georgen ob Judenburg\, Österreich;X-APPLE-RADIUS=49;X
 -TITLE=:geo:47.206547,14.499664
URL;VALUE=URI:https://hey-deutschland.de/events/694680
END:VEVENT
END:VCALENDAR
