BEGIN:VCALENDAR
PRODID:-//eluceo/ical//2.0/EN
VERSION:2.0
CALSCALE:GREGORIAN
BEGIN:VEVENT
UID:hey.bayern.694674.6554244
DTSTAMP:20260422T012058Z
SUMMARY:Eucharistische Anbetung
DTSTART;TZID=Europe/Berlin:20260528T193000
DTEND;TZID=Europe/Berlin:20260528T203000
LOCATION:Markt 106\, 5570 Mauterndorf\, Österreich
URL;VALUE=URI:https://hey-deutschland.de/events/694674
END:VEVENT
END:VCALENDAR
