BEGIN:VCALENDAR
PRODID:-//eluceo/ical//2.0/EN
VERSION:2.0
CALSCALE:GREGORIAN
BEGIN:VEVENT
UID:hey.bayern.694673.6554238
DTSTAMP:20260423T000153Z
SUMMARY:Eröffnung Tierpark Tragöß
DTSTART;TZID=Europe/Berlin:20260503T090000
DTEND;TZID=Europe/Berlin:20260503T180000
LOCATION:Pichl-Großdorf 18\, 8612 Tragöß-Sankt Katharein\, Österreich
GEO:47.509387;15.077183
X-APPLE-STRUCTURED-LOCATION;VALUE=URI;X-ADDRESS=Pichl-Großdorf 18\, 8612 T
 ragöß-Sankt Katharein\, Österreich;X-APPLE-RADIUS=49;X-TITLE=:geo:47.50
 9387,15.077183
URL;VALUE=URI:https://hey-deutschland.de/events/694673
END:VEVENT
END:VCALENDAR
