BEGIN:VCALENDAR
PRODID:-//eluceo/ical//2.0/EN
VERSION:2.0
CALSCALE:GREGORIAN
BEGIN:VEVENT
UID:hey.bayern.694650.6553973
DTSTAMP:20260422T223239Z
SUMMARY:Abba - Mamma Mia Party 22.08.2026
DTSTART;TZID=Europe/Berlin:20260822T200000
DTEND;TZID=Europe/Berlin:20260822T230000
LOCATION:Smart Home 1\, 4154 Kollerschlag\, Österreich
GEO:48.602235;13.837734
X-APPLE-STRUCTURED-LOCATION;VALUE=URI;X-ADDRESS=Smart Home 1\, 4154 Kollers
 chlag\, Österreich;X-APPLE-RADIUS=49;X-TITLE=:geo:48.602235,13.837734
URL;VALUE=URI:https://hey-deutschland.de/events/694650
END:VEVENT
END:VCALENDAR
