BEGIN:VCALENDAR
PRODID:-//eluceo/ical//2.0/EN
VERSION:2.0
CALSCALE:GREGORIAN
BEGIN:VEVENT
UID:hey.bayern.694638.6553779
DTSTAMP:20260421T005537Z
SUMMARY:Sommer­frische – Jakob Lena Knebl
DTSTART;TZID=Europe/Berlin:20260527T093000
DTEND;TZID=Europe/Berlin:20260527T093000
LOCATION:Jainzen 1 (im Kaiserpark)\, 4820 Bad Ischl\, Österreich
GEO:47.716637;13.617886
X-APPLE-STRUCTURED-LOCATION;VALUE=URI;X-ADDRESS=Jainzen 1 (im Kaiserpark)\,
  4820 Bad Ischl\, Österreich;X-APPLE-RADIUS=49;X-TITLE=:geo:47.716637,13.
 617886
URL;VALUE=URI:https://hey-deutschland.de/events/694638
END:VEVENT
END:VCALENDAR
