BEGIN:VCALENDAR
PRODID:-//eluceo/ical//2.0/EN
VERSION:2.0
CALSCALE:GREGORIAN
BEGIN:VEVENT
UID:hey.bayern.694630.6553734
DTSTAMP:20260421T034655Z
SUMMARY:Pilates & Brunch
DTSTART;TZID=Europe/Berlin:20260711T080000
DTEND;TZID=Europe/Berlin:20260711T090000
LOCATION:Mayrwinkl 80\, 4575 Roßleithen\, Österreich
GEO:47.737608;14.326083
X-APPLE-STRUCTURED-LOCATION;VALUE=URI;X-ADDRESS=Mayrwinkl 80\, 4575 Roßlei
 then\, Österreich;X-APPLE-RADIUS=49;X-TITLE=:geo:47.737608,14.326083
URL;VALUE=URI:https://hey-deutschland.de/events/694630
END:VEVENT
END:VCALENDAR
