BEGIN:VCALENDAR
PRODID:-//eluceo/ical//2.0/EN
VERSION:2.0
CALSCALE:GREGORIAN
BEGIN:VEVENT
UID:hey.bayern.694624.6553707
DTSTAMP:20260420T234546Z
SUMMARY:Lange Nacht der BibliOÖtheken
DTSTART;TZID=Europe/Berlin:20260424T190000
DTEND;TZID=Europe/Berlin:20260424T235900
LOCATION:Auböckplatz 6c\, 4820 Bad Ischl\, Österreich
GEO:47.711083;13.624302
X-APPLE-STRUCTURED-LOCATION;VALUE=URI;X-ADDRESS=Auböckplatz 6c\, 4820 Bad 
 Ischl\, Österreich;X-APPLE-RADIUS=49;X-TITLE=:geo:47.711083,13.624302
URL;VALUE=URI:https://hey-deutschland.de/events/694624
END:VEVENT
END:VCALENDAR
