BEGIN:VCALENDAR
PRODID:-//eluceo/ical//2.0/EN
VERSION:2.0
CALSCALE:GREGORIAN
BEGIN:VEVENT
UID:hey.bayern.694617.6553671
DTSTAMP:20260422T223210Z
SUMMARY:Blonder Engel Solo - Lions Charity
DTSTART;TZID=Europe/Berlin:20260618T180000
DTEND;TZID=Europe/Berlin:20260618T235900
LOCATION:Stelzhamerstraße 9\, 4600 Wels\, Österreich
GEO:48.160628;14.026436
X-APPLE-STRUCTURED-LOCATION;VALUE=URI;X-ADDRESS=Stelzhamerstraße 9\, 4600 
 Wels\, Österreich;X-APPLE-RADIUS=49;X-TITLE=:geo:48.160628,14.026436
URL;VALUE=URI:https://hey-deutschland.de/events/694617
END:VEVENT
END:VCALENDAR
