BEGIN:VCALENDAR
PRODID:-//eluceo/ical//2.0/EN
VERSION:2.0
CALSCALE:GREGORIAN
BEGIN:VEVENT
UID:hey.bayern.694615.6553665
DTSTAMP:20260420T235704Z
SUMMARY:Ausstellungseröffnung „Poesie der Landschaft“ im Gustav Klimt 
 Zentrum
DTSTART;TZID=Europe/Berlin:20260522T170000
DTEND;TZID=Europe/Berlin:20260522T230000
LOCATION:Hauptstraße 30\, 4861 Schörfling am Attersee\, Österreich
GEO:47.946331;13.594190
X-APPLE-STRUCTURED-LOCATION;VALUE=URI;X-ADDRESS=Hauptstraße 30\, 4861 Sch
 örfling am Attersee\, Österreich;X-APPLE-RADIUS=49;X-TITLE=:geo:47.94633
 1,13.594190
URL;VALUE=URI:https://hey-deutschland.de/events/694615
END:VEVENT
END:VCALENDAR
