BEGIN:VCALENDAR
PRODID:-//eluceo/ical//2.0/EN
VERSION:2.0
CALSCALE:GREGORIAN
BEGIN:VEVENT
UID:hey.bayern.694612.6553662
DTSTAMP:20260422T223240Z
SUMMARY:Art & Bass Session – Neon Nights Edition
DTSTART;TZID=Europe/Berlin:20260523T190000
DTEND;TZID=Europe/Berlin:20260523T235900
LOCATION:Stadtplatz 39\, 1.Stock\, 4600 Wels\, Österreich
GEO:48.157248;14.025457
X-APPLE-STRUCTURED-LOCATION;VALUE=URI;X-ADDRESS=Stadtplatz 39\, 1.Stock\, 4
 600 Wels\, Österreich;X-APPLE-RADIUS=49;X-TITLE=:geo:48.157248,14.025457
URL;VALUE=URI:https://hey-deutschland.de/events/694612
END:VEVENT
END:VCALENDAR
