BEGIN:VCALENDAR
PRODID:-//eluceo/ical//2.0/EN
VERSION:2.0
CALSCALE:GREGORIAN
BEGIN:VEVENT
UID:hey.bayern.694596.6553350
DTSTAMP:20260421T023443Z
SUMMARY:Platzkonzert in Angath
DTSTART;TZID=Europe/Berlin:20260813T193000
DTEND;TZID=Europe/Berlin:20260813T235900
LOCATION:6321 Angath\, Österreich
GEO:47.525140;12.086870
X-APPLE-STRUCTURED-LOCATION;VALUE=URI;X-ADDRESS=6321 Angath\, Österreich;X
 -APPLE-RADIUS=49;X-TITLE=:geo:47.525140,12.086870
URL;VALUE=URI:https://hey-deutschland.de/events/694596
END:VEVENT
END:VCALENDAR
