BEGIN:VCALENDAR
PRODID:-//eluceo/ical//2.0/EN
VERSION:2.0
CALSCALE:GREGORIAN
BEGIN:VEVENT
UID:hey.bayern.694566.6553036
DTSTAMP:20260420T235731Z
SUMMARY:Maibaumfest der Landjugend Jochberg
DTSTART;TZID=Europe/Berlin:20260430T180000
DTEND;TZID=Europe/Berlin:20260430T220000
LOCATION:6373 Jochberg\, Österreich
GEO:47.383120;12.417520
X-APPLE-STRUCTURED-LOCATION;VALUE=URI;X-ADDRESS=6373 Jochberg\, Österreich
 ;X-APPLE-RADIUS=49;X-TITLE=:geo:47.383120,12.417520
URL;VALUE=URI:https://hey-deutschland.de/events/694566
END:VEVENT
END:VCALENDAR
