BEGIN:VCALENDAR
PRODID:-//eluceo/ical//2.0/EN
VERSION:2.0
CALSCALE:GREGORIAN
BEGIN:VEVENT
UID:hey.bayern.694551.6552982
DTSTAMP:20260420T233855Z
SUMMARY:Generationenfest auf der Seminaralm
DTSTART;TZID=Europe/Berlin:20260613T100000
DTEND;TZID=Europe/Berlin:20260613T235900
LOCATION:6364 Brixen im Thale\, Österreich
GEO:47.462890;12.225670
X-APPLE-STRUCTURED-LOCATION;VALUE=URI;X-ADDRESS=6364 Brixen im Thale\, Öst
 erreich;X-APPLE-RADIUS=49;X-TITLE=:geo:47.462890,12.225670
URL;VALUE=URI:https://hey-deutschland.de/events/694551
END:VEVENT
END:VCALENDAR
