BEGIN:VCALENDAR
PRODID:-//eluceo/ical//2.0/EN
VERSION:2.0
CALSCALE:GREGORIAN
BEGIN:VEVENT
UID:hey.bayern.694036.6549068
DTSTAMP:20260421T023458Z
SUMMARY:Musiksommer Neustift: Chorkonzert Chor ProSono
DTSTART;TZID=Europe/Berlin:20260630T203000
DTEND;TZID=Europe/Berlin:20260630T235900
LOCATION:6167 Neustift im Stubaital\, Österreich
URL;VALUE=URI:https://hey-deutschland.de/events/694036
END:VEVENT
END:VCALENDAR
