BEGIN:VCALENDAR
PRODID:-//eluceo/ical//2.0/EN
VERSION:2.0
CALSCALE:GREGORIAN
BEGIN:VEVENT
UID:hey.bayern.693350.6543108
DTSTAMP:20260421T022828Z
SUMMARY:Lienz tanzt - die Musiknacht mit DJs
DTSTART;TZID=Europe/Berlin:20260425T210000
DTEND;TZID=Europe/Berlin:20260425T235900
URL;VALUE=URI:https://hey-deutschland.de/events/693350
END:VEVENT
END:VCALENDAR
