BEGIN:VCALENDAR
PRODID:-//eluceo/ical//2.0/EN
VERSION:2.0
CALSCALE:GREGORIAN
BEGIN:VEVENT
UID:hey.bayern.687759.6496342
DTSTAMP:20260421T023440Z
SUMMARY:Kirchenkonzert Hochfilzen
DTSTART;TZID=Europe/Berlin:20260428T190000
DTEND;TZID=Europe/Berlin:20260428T235900
URL;VALUE=URI:https://hey-deutschland.de/events/687759
END:VEVENT
END:VCALENDAR
