BEGIN:VCALENDAR
PRODID:-//eluceo/ical//2.0/EN
VERSION:2.0
CALSCALE:GREGORIAN
BEGIN:VEVENT
UID:hey.bayern.687429.6491660
DTSTAMP:20260421T021902Z
SUMMARY:Dein Start in Klosters | 2-tägige Madrisa Rundtour
DTSTART;TZID=Europe/Berlin:20260714T090000
DTEND;TZID=Europe/Berlin:20260715T090000
LOCATION:Madrisastrasse 7\, 7252 Klosters-Serneus\, Österreich
GEO:46.884500;9.875640
X-APPLE-STRUCTURED-LOCATION;VALUE=URI;X-ADDRESS=Madrisastrasse 7\, 7252 Klo
 sters-Serneus\, Österreich;X-APPLE-RADIUS=49;X-TITLE=:geo:46.884500,9.875
 640
URL;VALUE=URI:https://hey-deutschland.de/events/687429
END:VEVENT
END:VCALENDAR
