BEGIN:VCALENDAR
PRODID:-//eluceo/ical//2.0/EN
VERSION:2.0
CALSCALE:GREGORIAN
BEGIN:VEVENT
UID:hey.bayern.686549.6548008
DTSTAMP:20260420T235549Z
SUMMARY:Streetfood Market in Gaspoltshofen
DTSTART;TZID=Europe/Berlin:20260621T110000
DTEND;TZID=Europe/Berlin:20260621T180000
LOCATION:Hauptstraße 18\, 4673 Gaspoltshofen\, Österreich
GEO:48.143873;13.735147
X-APPLE-STRUCTURED-LOCATION;VALUE=URI;X-ADDRESS=Hauptstraße 18\, 4673 Gasp
 oltshofen\, Österreich;X-APPLE-RADIUS=49;X-TITLE=:geo:48.143873,13.735147
URL;VALUE=URI:https://hey-deutschland.de/events/686549
END:VEVENT
END:VCALENDAR
