BEGIN:VCALENDAR
PRODID:-//eluceo/ical//2.0/EN
VERSION:2.0
CALSCALE:GREGORIAN
BEGIN:VEVENT
UID:hey.bayern.686348.6480228
DTSTAMP:20260421T074355Z
SUMMARY:Kunst zu Gast beim Pankrazhofer  - Ausstellung
DTSTART;TZID=Europe/Berlin:20260723T080000
DTEND;TZID=Europe/Berlin:20260723T120000
LOCATION:Lugendorf 7\, 4284 Tragwein\, Österreich
GEO:48.343549;14.634639
X-APPLE-STRUCTURED-LOCATION;VALUE=URI;X-ADDRESS=Lugendorf 7\, 4284 Tragwein
 \, Österreich;X-APPLE-RADIUS=49;X-TITLE=:geo:48.343549,14.634639
URL;VALUE=URI:https://hey-deutschland.de/events/686348
END:VEVENT
END:VCALENDAR
