BEGIN:VCALENDAR
PRODID:-//eluceo/ical//2.0/EN
VERSION:2.0
CALSCALE:GREGORIAN
BEGIN:VEVENT
UID:hey.bayern.685639.6476337
DTSTAMP:20260421T130227Z
SUMMARY:Therme Lindau: Tag der Sinne
DTSTART;TZID=Europe/Berlin:20260513T000000
DTEND;TZID=Europe/Berlin:20260514T000000
LOCATION:Eichwaldstraße 16\, 88131 Lindau (Bodensee)
GEO:47.549464;9.715283
X-APPLE-STRUCTURED-LOCATION;VALUE=URI;X-ADDRESS=Eichwaldstraße 16\, 88131 
 Lindau (Bodensee);X-APPLE-RADIUS=49;X-TITLE=:geo:47.549464,9.715283
URL;VALUE=URI:https://hey-deutschland.de/events/685639
END:VEVENT
END:VCALENDAR
