BEGIN:VCALENDAR
PRODID:-//eluceo/ical//2.0/EN
VERSION:2.0
CALSCALE:GREGORIAN
BEGIN:VEVENT
UID:hey.bayern.677154.6545939
DTSTAMP:20260420T014021Z
SUMMARY:Climbing with Respect
DTSTART;TZID=Europe/Berlin:20260828T103000
DTEND;TZID=Europe/Berlin:20260828T235900
LOCATION:6212 Maurach\, Österreich
GEO:47.424640;11.751430
X-APPLE-STRUCTURED-LOCATION;VALUE=URI;X-ADDRESS=6212 Maurach\, Österreich;
 X-APPLE-RADIUS=49;X-TITLE=:geo:47.424640,11.751430
URL;VALUE=URI:https://hey-deutschland.de/events/677154
END:VEVENT
END:VCALENDAR
