BEGIN:VCALENDAR
PRODID:-//eluceo/ical//2.0/EN
VERSION:2.0
CALSCALE:GREGORIAN
BEGIN:VEVENT
UID:hey.bayern.665302.6268022
DTSTAMP:20260421T044416Z
SUMMARY:Pro Western Highland Games
DTSTART;TZID=Europe/Berlin:20260613T100000
DTEND;TZID=Europe/Berlin:20260613T235959
LOCATION:Rheinauweg 63b\, 6973 Höchst\, Österreich
GEO:47.457309;9.628884
X-APPLE-STRUCTURED-LOCATION;VALUE=URI;X-ADDRESS=Rheinauweg 63b\, 6973 Höch
 st\, Österreich;X-APPLE-RADIUS=49;X-TITLE=:geo:47.457309,9.628884
URL;VALUE=URI:https://hey-deutschland.de/events/665302
END:VEVENT
END:VCALENDAR
