BEGIN:VCALENDAR
PRODID:-//eluceo/ical//2.0/EN
VERSION:2.0
CALSCALE:GREGORIAN
BEGIN:VEVENT
UID:hey.bayern.660257.6199727
DTSTAMP:20260421T034656Z
SUMMARY:Claudia Six | in der Galerie beim Feurle
DTSTART;TZID=Europe/Berlin:20260425T000000
DTEND;TZID=Europe/Berlin:20260426T000000
LOCATION:Schmiedgasse 12\, 6800 Feldkirch
GEO:47.237590;9.597300
X-APPLE-STRUCTURED-LOCATION;VALUE=URI;X-ADDRESS=Schmiedgasse 12\, 6800 Feld
 kirch;X-APPLE-RADIUS=49;X-TITLE=:geo:47.237590,9.597300
URL;VALUE=URI:https://hey-deutschland.de/events/660257
END:VEVENT
END:VCALENDAR
