BEGIN:VCALENDAR
PRODID:-//eluceo/ical//2.0/EN
VERSION:2.0
CALSCALE:GREGORIAN
BEGIN:VEVENT
UID:hey.bayern.611645.6554354
DTSTAMP:20260423T033311Z
SUMMARY:Führung auf Burg Rothenfels
DTSTART;TZID=Europe/Berlin:20260704T103000
DTEND;TZID=Europe/Berlin:20260704T235959
LOCATION:Bromach 1\, 8832 Oberwölz\, Österreich
GEO:47.200546;14.294086
X-APPLE-STRUCTURED-LOCATION;VALUE=URI;X-ADDRESS=Bromach 1\, 8832 Oberwölz\
 , Österreich;X-APPLE-RADIUS=49;X-TITLE=:geo:47.200546,14.294086
URL;VALUE=URI:https://hey-deutschland.de/events/611645
END:VEVENT
END:VCALENDAR
