BEGIN:VCALENDAR
PRODID:-//eluceo/ical//2.0/EN
VERSION:2.0
CALSCALE:GREGORIAN
BEGIN:VEVENT
UID:hey.bayern.575055.6217669
DTSTAMP:20260421T022959Z
SUMMARY:Vinyasa Yoga
DTSTART;TZID=Europe/Berlin:20251118T181500
DTEND;TZID=Europe/Berlin:20251118T193000
LOCATION:Kapellenweg 15\, 87538 Bolsterlang
GEO:47.465837;10.236251
X-APPLE-STRUCTURED-LOCATION;VALUE=URI;X-ADDRESS=Kapellenweg 15\, 87538 Bols
 terlang;X-APPLE-RADIUS=49;X-TITLE=:geo:47.465837,10.236251
URL;VALUE=URI:https://hey-deutschland.de/events/575055
END:VEVENT
END:VCALENDAR
