BEGIN:VCALENDAR
PRODID:-//eluceo/ical//2.0/EN
VERSION:2.0
CALSCALE:GREGORIAN
BEGIN:VEVENT
UID:hey.bayern.543539.4997386
DTSTAMP:20260421T022954Z
SUMMARY:Besichtigung Mineralienmuseum
DTSTART;TZID=Europe/Berlin:20261109T090000
DTEND;TZID=Europe/Berlin:20261109T110000
LOCATION:Sonnrain 61\, 5771 Leogang\, Österreich
GEO:47.439661;12.757620
X-APPLE-STRUCTURED-LOCATION;VALUE=URI;X-ADDRESS=Sonnrain 61\, 5771 Leogang\
 , Österreich;X-APPLE-RADIUS=49;X-TITLE=:geo:47.439661,12.757620
URL;VALUE=URI:https://hey-deutschland.de/events/543539
END:VEVENT
END:VCALENDAR
