BEGIN:VCALENDAR
PRODID:-//eluceo/ical//2.0/EN
VERSION:2.0
CALSCALE:GREGORIAN
BEGIN:VEVENT
UID:hey.bayern.528131.6423209
DTSTAMP:20260421T040405Z
SUMMARY:Josefine Baker. Ikone der Befreiung
DTSTART;TZID=Europe/Berlin:20260705T100000
DTEND;TZID=Europe/Berlin:20260705T180000
LOCATION:Museumstraße 14\, 4020 Linz\, Österreich
GEO:48.305879;14.293773
X-APPLE-STRUCTURED-LOCATION;VALUE=URI;X-ADDRESS=Museumstraße 14\, 4020 Lin
 z\, Österreich;X-APPLE-RADIUS=49;X-TITLE=:geo:48.305879,14.293773
URL;VALUE=URI:https://hey-deutschland.de/events/528131
END:VEVENT
END:VCALENDAR
