BEGIN:VCALENDAR
PRODID:-//eluceo/ical//2.0/EN
VERSION:2.0
CALSCALE:GREGORIAN
BEGIN:VEVENT
UID:hey.bayern.493323.6556604
DTSTAMP:20260423T012312Z
SUMMARY:Italienischer Markt - Produkte und Delikatessen aus Italien
DTSTART;TZID=Europe/Berlin:20260627T000000
DTEND;TZID=Europe/Berlin:20260627T000000
LOCATION:Hauptplatz 2\, 4866 Unterach am Attersee\, Österreich
GEO:47.803910;13.489720
X-APPLE-STRUCTURED-LOCATION;VALUE=URI;X-ADDRESS=Hauptplatz 2\, 4866 Unterac
 h am Attersee\, Österreich;X-APPLE-RADIUS=49;X-TITLE=:geo:47.803910,13.48
 9720
URL;VALUE=URI:https://hey-deutschland.de/events/493323
END:VEVENT
END:VCALENDAR
