BEGIN:VCALENDAR
PRODID:-//eluceo/ical//2.0/EN
VERSION:2.0
CALSCALE:GREGORIAN
BEGIN:VEVENT
UID:hey.bayern.490597.6556904
DTSTAMP:20260423T033622Z
SUMMARY:Beach Party Pibersteinersee
DTSTART;TZID=Europe/Berlin:20260613T100000
DTEND;TZID=Europe/Berlin:20260613T180000
LOCATION:Am See 1\, 8591 Maria Lankowitz\, Österreich
URL;VALUE=URI:https://hey-deutschland.de/events/490597
END:VEVENT
END:VCALENDAR
