BEGIN:VCALENDAR
PRODID:-//eluceo/ical//2.0/EN
VERSION:2.0
CALSCALE:GREGORIAN
BEGIN:VEVENT
UID:hey.bayern.489951.3211253
DTSTAMP:20260422T025712Z
SUMMARY:Day Spa Special
DTSTART;TZID=Europe/Berlin:20260422T090000
DTEND;TZID=Europe/Berlin:20260422T220000
LOCATION:Schloss-Straße 1\, 5322 Hof bei Salzburg\, Österreich
URL;VALUE=URI:https://hey-deutschland.de/events/489951
END:VEVENT
END:VCALENDAR
