BEGIN:VCALENDAR
PRODID:-//eluceo/ical//2.0/EN
VERSION:2.0
CALSCALE:GREGORIAN
BEGIN:VEVENT
UID:hey.bayern.485792.6553064
DTSTAMP:20260420T235727Z
SUMMARY:Mit dem Alpbus zur Alpe Nenzigast - Retourfahrt 13:00 Uhr
DTSTART;TZID=Europe/Berlin:20260831T130000
DTEND;TZID=Europe/Berlin:20260901T130000
LOCATION:Bundesstraße 59\, 6754 Klösterle am Arlberg\, Österreich
GEO:47.104729;10.109168
X-APPLE-STRUCTURED-LOCATION;VALUE=URI;X-ADDRESS=Bundesstraße 59\, 6754 Kl
 österle am Arlberg\, Österreich;X-APPLE-RADIUS=49;X-TITLE=:geo:47.104729
 ,10.109168
URL;VALUE=URI:https://hey-deutschland.de/events/485792
END:VEVENT
END:VCALENDAR
