BEGIN:VCALENDAR
PRODID:-//eluceo/ical//2.0/EN
VERSION:2.0
CALSCALE:GREGORIAN
BEGIN:VEVENT
UID:hey.bayern.476124.6549013
DTSTAMP:20260421T021816Z
SUMMARY:Kräuterwanderung zur Stafel Alpe mit Christiane Martin
DTSTART;TZID=Europe/Berlin:20260813T090000
DTEND;TZID=Europe/Berlin:20260814T090000
URL;VALUE=URI:https://hey-deutschland.de/events/476124
END:VEVENT
END:VCALENDAR
