BEGIN:VCALENDAR
PRODID:-//eluceo/ical//2.0/EN
VERSION:2.0
CALSCALE:GREGORIAN
BEGIN:VEVENT
UID:hey.bayern.460823.6554685
DTSTAMP:20260423T012333Z
SUMMARY:Maibaumstellen am Hartberger Hauptplatz
DTSTART;TZID=Europe/Berlin:20260501T140000
DTEND;TZID=Europe/Berlin:20260501T235959
LOCATION:Hauptplatz\, 8230 Hartberg\, Österreich
GEO:47.281032;15.969318
X-APPLE-STRUCTURED-LOCATION;VALUE=URI;X-ADDRESS=Hauptplatz\, 8230 Hartberg\
 , Österreich;X-APPLE-RADIUS=49;X-TITLE=:geo:47.281032,15.969318
URL;VALUE=URI:https://hey-deutschland.de/events/460823
END:VEVENT
END:VCALENDAR
