BEGIN:VCALENDAR
PRODID:-//eluceo/ical//2.0/EN
VERSION:2.0
CALSCALE:GREGORIAN
BEGIN:VEVENT
UID:hey.bayern.370703.6554419
DTSTAMP:20260422T051632Z
SUMMARY:Geführte E-Bike-Tour zur Bichlalm - Loosbühelalm
DTSTART;TZID=Europe/Berlin:20260721T100000
DTEND;TZID=Europe/Berlin:20260721T140000
LOCATION:Moargasse 22\, 5611 Großarl\, Österreich
GEO:47.242988;13.195919
X-APPLE-STRUCTURED-LOCATION;VALUE=URI;X-ADDRESS=Moargasse 22\, 5611 Großar
 l\, Österreich;X-APPLE-RADIUS=49;X-TITLE=:geo:47.242988,13.195919
URL;VALUE=URI:https://hey-deutschland.de/events/370703
END:VEVENT
END:VCALENDAR
