BEGIN:VCALENDAR
PRODID:-//eluceo/ical//2.0/EN
VERSION:2.0
CALSCALE:GREGORIAN
BEGIN:VEVENT
UID:hey.bayern.341039.6114724
DTSTAMP:20260421T074404Z
SUMMARY:Volksmusik Live
DTSTART;TZID=Europe/Berlin:20261116T183000
DTEND;TZID=Europe/Berlin:20261116T235900
LOCATION:Markt 123\, 5360 St. Wolfgang im Salzkammergut\, Österreich
GEO:47.740305;13.444916
X-APPLE-STRUCTURED-LOCATION;VALUE=URI;X-ADDRESS=Markt 123\, 5360 St. Wolfga
 ng im Salzkammergut\, Österreich;X-APPLE-RADIUS=49;X-TITLE=:geo:47.740305
 ,13.444916
URL;VALUE=URI:https://hey-deutschland.de/events/341039
END:VEVENT
END:VCALENDAR
