BEGIN:VCALENDAR
PRODID:-//eluceo/ical//2.0/EN
VERSION:2.0
CALSCALE:GREGORIAN
BEGIN:VEVENT
UID:hey.bayern.340949.6555823
DTSTAMP:20260422T012059Z
SUMMARY:Vatertags-Frühschoppen
DTSTART;TZID=Europe/Berlin:20260614T110000
DTEND;TZID=Europe/Berlin:20260614T160000
LOCATION:Klammstein 36\, 5632 Dorfgastein\, Österreich
GEO:47.278612;13.074745
X-APPLE-STRUCTURED-LOCATION;VALUE=URI;X-ADDRESS=Klammstein 36\, 5632 Dorfga
 stein\, Österreich;X-APPLE-RADIUS=49;X-TITLE=:geo:47.278612,13.074745
URL;VALUE=URI:https://hey-deutschland.de/events/340949
END:VEVENT
END:VCALENDAR
