BEGIN:VCALENDAR
PRODID:-//eluceo/ical//2.0/EN
VERSION:2.0
CALSCALE:GREGORIAN
BEGIN:VEVENT
UID:hey.bayern.338699.6553733
DTSTAMP:20260421T011828Z
SUMMARY:Papierstadtlauf 2023
DTSTART;TZID=Europe/Berlin:20260513T090000
DTEND;TZID=Europe/Berlin:20260513T200000
LOCATION:Rathausplatz 1\, 4663 Laakirchen\, Österreich
GEO:47.975819;13.817059
X-APPLE-STRUCTURED-LOCATION;VALUE=URI;X-ADDRESS=Rathausplatz 1\, 4663 Laaki
 rchen\, Österreich;X-APPLE-RADIUS=49;X-TITLE=:geo:47.975819,13.817059
URL;VALUE=URI:https://hey-deutschland.de/events/338699
END:VEVENT
END:VCALENDAR
