BEGIN:VCALENDAR
PRODID:-//eluceo/ical//2.0/EN
VERSION:2.0
CALSCALE:GREGORIAN
BEGIN:VEVENT
UID:hey.bayern.337758.6553729
DTSTAMP:20260420T235047Z
SUMMARY:Multimediavortrag mit Helmut Pichler
DTSTART;TZID=Europe/Berlin:20261012T193000
DTEND;TZID=Europe/Berlin:20261012T213000
LOCATION:Danzermühl 2b\, 4663 Laakirchen\, Österreich
GEO:47.975819;13.817059
X-APPLE-STRUCTURED-LOCATION;VALUE=URI;X-ADDRESS=Danzermühl 2b\, 4663 Laaki
 rchen\, Österreich;X-APPLE-RADIUS=49;X-TITLE=:geo:47.975819,13.817059
URL;VALUE=URI:https://hey-deutschland.de/events/337758
END:VEVENT
END:VCALENDAR
